BEGIN:VCALENDAR
VERSION:2.0
PRODID:SchoolNow
CALSCALE:GREGORIAN
BEGIN:VEVENT
UID:5f14c4e4-73ae-11ec-b621-0a3dc7d2bbfd
DTSTAMP:20220112T141056Z
SUMMARY:7th-12th Literacy Week
URL;VALUE=URI:https://www.hopecharter.org/about/calendar/3072548/7th-12th-l
 iteracy-week
DTSTART;VALUE=DATE:20220124
DTEND;VALUE=DATE:20220129
END:VEVENT
END:VCALENDAR
